BEGIN:VCALENDAR
VERSION:2.0
PRODID:-//Running Scenes - ECPv6.15.17.1//NONSGML v1.0//EN
CALSCALE:GREGORIAN
METHOD:PUBLISH
X-WR-CALNAME:Running Scenes
X-ORIGINAL-URL:https://running-scenes.gr
X-WR-CALDESC:Events for Running Scenes
REFRESH-INTERVAL;VALUE=DURATION:PT1H
X-Robots-Tag:noindex
X-PUBLISHED-TTL:PT1H
BEGIN:VTIMEZONE
TZID:Europe/Athens
BEGIN:DAYLIGHT
TZOFFSETFROM:+0200
TZOFFSETTO:+0300
TZNAME:EEST
DTSTART:20200329T010000
END:DAYLIGHT
BEGIN:STANDARD
TZOFFSETFROM:+0300
TZOFFSETTO:+0200
TZNAME:EET
DTSTART:20201025T010000
END:STANDARD
BEGIN:DAYLIGHT
TZOFFSETFROM:+0200
TZOFFSETTO:+0300
TZNAME:EEST
DTSTART:20210328T010000
END:DAYLIGHT
BEGIN:STANDARD
TZOFFSETFROM:+0300
TZOFFSETTO:+0200
TZNAME:EET
DTSTART:20211031T010000
END:STANDARD
BEGIN:DAYLIGHT
TZOFFSETFROM:+0200
TZOFFSETTO:+0300
TZNAME:EEST
DTSTART:20220327T010000
END:DAYLIGHT
BEGIN:STANDARD
TZOFFSETFROM:+0300
TZOFFSETTO:+0200
TZNAME:EET
DTSTART:20221030T010000
END:STANDARD
BEGIN:DAYLIGHT
TZOFFSETFROM:+0200
TZOFFSETTO:+0300
TZNAME:EEST
DTSTART:20230326T010000
END:DAYLIGHT
BEGIN:STANDARD
TZOFFSETFROM:+0300
TZOFFSETTO:+0200
TZNAME:EET
DTSTART:20231029T010000
END:STANDARD
END:VTIMEZONE
BEGIN:VEVENT
DTSTART;TZID=Europe/Athens:20220313T090000
DTEND;TZID=Europe/Athens:20220313T170000
DTSTAMP:20260421T205540
CREATED:20220109T093642Z
LAST-MODIFIED:20220109T094215Z
UID:6170-1647162000-1647190800@running-scenes.gr
SUMMARY:Atlas Trail Running 2022
DESCRIPTION:Atlas Trail Running 2022:  Ζήσε την εμπειρία του ορεινού τρεξίματος στο αγώνα βουνού ATLAS TRAIL RUNNING στην περιοχή της Μαλακάσας με τρεις διαδρομές 24χλμ. – 11χλμ. – 6χλμ. για κάθε απαίτηση οποιουδήποτε δρομέα. Τρέξε τα βουνά της Μαλακάσας με​ τεχνικά σημεία στο τερέν\, δασικούς δρόμους\, διαδρομές που θα σας δώσουν κίνητρο να συνεχίσετε να αγωνίζεστε σε ορεινούς αγώνες. \nΤο 60% της διαδρομής αποτελείται από δασικούς δρόμους και το 40% από μονοπάτια. Έτσι αυτός ο αγώνας θα σας μείνει αξέχαστος\, λόγω του γραφικού και καταπράσινου τοπίου που θα συναντήσετε. Κατά τη διάρκεια του αγώνα σας θα συναντήσετε δύο παρεκκλήσια\, του Προφήτη Ηλία και του Αγίου Μερκουρίου. Η διαδρομή χαρακτηρίζεται μέτριας δυσκολίας αλλά υπάρχουν και τεχνικά σημεία. Επίσης\, απαιτείται μια σχετικά μικρή εμπειρία σε αγώνες βουνού. Είναι υποχρεωτικό τα παπούτσια των αθλητών να είναι κατάλληλα για βουνό και η χρήση υδροδοχείου. \n\nΗΜΕΡΟΜΗΝΙΑ ΑΓΩΝΑ 13/03/2022\n ΤΟΠΟΣ ΔΙΕΞΑΓΩΓΗΣ: Μαλακάσα (πριν το παρεκκλήσι του Αγίου Μερκουρίου) πολύ κοντά στην Ιπποκράτειο πολιτεία.\nΕΓΓΡΑΦΕΣ για Atlas Trail Running 2022:  https://www.asagwn.com/race_registration\n\nΚόστος συμμετοχής \n\nΓια τον αγώνα των 24 χλμ. 17 ευρώ\nΓια των αγώνα των 11 χλμ. 12 ευρώ\nΓια των αγώνα των 6 χλμ. 10 ευρώ\n\nΣε περίπτωση ματαίωσης του αγώνα\, θα επιστραφεί ακέραιο το αντίτιμο συμμετοχής εντός 30 ημερών.\nΣε περίπτωση αναβολής του αγώνα\, δεν επιστρέφεται το κόστος συμμετοχής. \nΣταθμοί ανεφοδιασμού για τον αγώνα 24 χλμ. \n\n1ος 3 χλμ. νερό και ηλεκτρολύτες\n2ος 11 χλμ. νερό\, ηλεκτρολύτες και μπισκότα\n3ος 15 χλμ. νερό και ηλεκτρολύτες\n4ος 18 χλμ. νερό\n5ος τερματισμός νερό\, ηλεκτρολύτες και μπανάνα\n\nΣταθμοί ανεφοδιασμού για τον αγώνα 11 χλμ. \n\n1ος 5 χλμ. νερό και ηλεκτρολύτες\n2ος τερματισμός νερό\, ηλεκτρολύτες και μπανάνα\n\nΣταθμοί ανεφοδιασμού για τον αγώνα 6 χλμ. \n\n1ος 2 χλμ. νερό\n2ος τερματισμός νερό\, ηλεκτρολύτες και μπανάνα\n\nΠΡΟΣΟΧΗ Οι συμμετέχοντες θα πρέπει να προσκομίσουν πιστοποιητικό προληπτικού ελέγχου (testing): PCR test 72 ωρών ή rapid test 48 ωρών  self test εντός 24 ωρών (συστήνεται να διενεργείται την ημέρα του αγώνα). Από τους προληπτικούς ελέγχους με τεστ αντιγόνου COVID-19\, εξαιρούνται όσοι προσκομίζουν πιστοποιητικό εμβολιασμού ή πιστοποιητικό νόσησης (εκδίδεται 30 ημέρες μετά τον πρώτο θετικό έλεγχο και ισχύει εώς 180 ημέρες μετά τη νόσηση). Όλοι οι εθελοντές και το προσωπικό της διοργάνωσης θα κάνει Self-test την ημέρα του αγώνα. \n \nΔες εδώ τους αγώνες τρεξίματος που έχει συμμετάσχει το Running Scenes
URL:https://running-scenes.gr/kalentari-agwnes-treksimatos/atlas-trail-running-2022/
LOCATION:Μαλακάσα (πριν το παρεκκλήσι του Αγίου Μερκουρίου)\, Malakasa 190 11\, Malakasa\, 190 11
CATEGORIES:Ορεινό Τρέξιμο Βουνού Trail
ATTACH;FMTTYPE=image/jpeg:https://running-scenes.gr/wp-content/uploads/2022/01/3os-atlas-trail-running.jpg
ORGANIZER;CN="%CE%91%CE%B8%CE%BB%CE%B7%CF%84%CE%B9%CE%BA%CF%8C%CF%82 %CE%A3%CF%8D%CE%BB%CE%BB%CE%BF%CE%B3%CE%BF%CF%82 %CE%91%CE%B3%CF%8E%CE%BD":MAILTO:g-kostarelos@hotmail.com
END:VEVENT
BEGIN:VEVENT
DTSTART;TZID=Europe/Athens:20220312T080000
DTEND;TZID=Europe/Athens:20220313T170000
DTSTAMP:20260421T205540
CREATED:20220223T130723Z
LAST-MODIFIED:20220223T131114Z
UID:6252-1647072000-1647190800@running-scenes.gr
SUMMARY:Methana Volcano Challenge - 1ος ορεινός Αγώνας
DESCRIPTION:Methana Volcano Challenge – 1ος ορεινός Αγώνας \nΟ Εμπορικός και Επαγγελματικός Σύλλογος Μεθάνων με συνδιοργανωτές την Saronic Outdoor Activities \, Saronic Triathlon Club\,με μεγάλο υποστηρικτή το Volcanotrails ανακοινώνουν τον 1ο Ορεινό Αγώνα αναψυχής ‘’ Methana Volcano Challenge ’’ ο οποίος θα διεξαχθεί το διήμερο 12 και 13 Μαρτίου 2022. \n• Lava Trail Run 25 Km\n• Fuego Trail Run 12.5 Km\n• Fun Run 5.3 km \nΗμερομηνία διεξαγωγής: Σάββατο 12 & 13/03/2022 \nTόπος διεξαγωγής: Μέθανα\, Δήμου Τροιζηνίας – Μεθάνων \nΣάββατο 12.03.2022 \n• Αγώνας Δρόμου 5\,3 χλμ (Fun RUN 5.3 Km) – Εκκίνηση 16:30 \nΚυριακή 13.03.2022 \n• Lava Trail Run 25 Km – Εκκίνηση: 10:00\n• Fuego Trail Run 12.5 Km – Εκκίνηση: 10:30 \nΕγγραφές Methana Volcano Challenge – 1ος ορεινός Αγώνας:\nΓια ηλεκτρονικές εγγραφές παρακαλούμε πατήστε εδώ. \nΥψομετρικό προφίλ Διαδρομής Methana Volcano Challenge 24Km\n \n \nΣΥΝΟΠΤΙΚΟ ΠΡΟΓΡΑΜΜΑ ΔΙΗΜΕΡΟΥ Methana Volcano Challenge\nΣάββατο 12/03/2022\n11:00 μ.μ.: Άνοιγμα γραμματείας για παραλαβή chip και BIB Number στο Πολιτιστικό Κέντρο Μεθάνων (παράδρομος επί της οδού Χρ. Μαλτέζου)\n16:30 μ.μ.: Εκκίνηση Αγώνα Δρόμου 5.3 χλμ (Fun RUN 5.3 Km)\n18:00 μ.μ.: Ολοκλήρωση Αγώνα Δρόμου 5.3 χλμ (Fun RUN 5.3 Km)\n19:30 μ.μ.: Κλείσιμο γραμματείας\n20:00 μ.μ: Τεχνική ενημέρωση στο Πολιτιστικό Κέντρο Μεθάνων \nΚυριακή 13/03/2022\n07:30 π.μ.: Άνοιγμα γραμματείας για παραλαβή αγωνιστικού πακέτου στην Εκκίνηση του αγώνα.\n10:00 π.μ.: Κλείσιμο γραμματείας (chip και BIB Number θα δίνονται μέχρι τις 9:30 για τον Αγώνα των 25 χλμ και μέχρι τις 10:00 για τον Αγώνα των 12\,5 χλμ).\n10:00 π.μ.: Εκκίνηση Αγώνα Lava Trail Run 25 Km\n10:30 π.μ.: Εκκίνηση Αγώνα Fuego Trail Run 12.5 Km\n13:00 μ.μ.: Αναμενόμενη ώρα άφιξης πρώτου δρομέα του μεγάλου αγώνα\n12:30 μ.μ.: Ολοκλήρωση Ορεινού Αγώνα 12\,5 χλμ\n13:00 μ.μ.: Απονομές Αγώνα 12\,5 χλμ\n14:00 μ.μ.: Απονομές Αγώνα 25 χλμ\n16:00 μ.μ.: Ολοκλήρωση Ορεινού Αγώνα 25 χλμ. \n\nΔες εδώ τους αγώνες τρεξίματος που έχει συμμετάσχει το Running Scenes
URL:https://running-scenes.gr/kalentari-agwnes-treksimatos/methana-volcano-challenge-1os-oreinos-agwnas/
LOCATION:Λιμανι Μεθάνων\, 25is Martiou 103\, Methana\, Mέθανα\, 180 30
CATEGORIES:Ορεινό Τρέξιμο Βουνού Trail
ATTACH;FMTTYPE=image/jpeg:https://running-scenes.gr/wp-content/uploads/2022/02/Methana-volcano-Challenge.jpg
ORGANIZER;CN="saronicactivities":MAILTO:saronicactivities@gmail.com
END:VEVENT
BEGIN:VEVENT
DTSTART;TZID=Europe/Athens:20220227T080000
DTEND;TZID=Europe/Athens:20220227T170000
DTSTAMP:20260421T205540
CREATED:20220205T113026Z
LAST-MODIFIED:20220228T074951Z
UID:6235-1645948800-1645981200@running-scenes.gr
SUMMARY:7ος Αγώνας Δρόμου Ραμνούς-Γραμματικό
DESCRIPTION:Αποτελέσματα 7ος Αγώνας Δρόμου Ραμνούς-Γραμματικό 17km & 6500m – Ο Σύλλογος Μαραθωνοδρόμων ΤΕΛΜΗΣΣΟΣ Ν.ΜΑΚΡΗΣ – ΜΑΡΑΘΩΝΟΣ\, με την υποστήριξη του συλλόγου γυναικών Γραμματικού καθώς και του συλλόγου νεολαίας Γραμματικού\, και υπό την αιγίδα του Δήμου Μαραθώνα καθώς και της ΕΟΣΛΜΑ-Υ\, συνδιοργανώνουν τον αγώνα δρόμου απόστασης 17 χλμ και 6\,5χλμ με εκκίνηση και τερματισμό ένα από τα ωραιότερα χωριά τις Αττικής\, το Γραμματικό. \nΟ 7ος Δρόμος Ραμνούς θα διεξαχθεί την Κυριακή 27 Φεβρουαρίου 2022 και ώρα εκκίνησης 10:00πμ στην κεντρική πλατεία Γραμματικού για τον αγώνα των 17 χλμ\, και ώρα εκκίνησης 10:30πμ στην κεντρική πλατεία Γραμματικού για τον αγώνα των 6\,5χλμ. Εκκίνηση και Τερματισμός στην κεντρική πλατεία Γραμματικού.Στον αγώνα θα υπάρχει ηλεκτρονική χρονομέτρηση. Θα δοθεί μετάλλιο και αναμνηστικά σε όλους τους τερματίσαντες\, καθώς και στον τερματισμό θα σας περιμένει παραδοσιακό τοπικό κέρασμα. \nΑποτελέσματα 7ος Αγώνας Δρόμου Ραμνούς\nΒρες τα Αποτελέσματα 7ος Αγώνας Δρόμου Ραμνούς-Γραμματικό 17km ΕΔΩ. \n7ος Αγώνας Δρόμου Ραμνούς-Γραμματικό\n\n17 χλμ\nΚυριακή 27 Φεβρουαρίου 2022\nΚεντρική πλατεία Γραμματικού\nΚόστος εγγραφής:  5 ΕΥΡΩ\nΔήλωση συμμετοχής: http://www.telmissos.gr/dilwsi\n\nΔιαδρομή του Αγώνα 7ος Αγώνας Δρόμου Ραμνούς-Γραμματικό \nΗ εκκίνηση του αγώνα των 17 χλμ δίνεται στις 10:00πμ από την κεντρική πλατεία Γραμματικού με κατεύθυνση προς τον αρχαιολογικό χώρο Ραμνούντας και επιστροφή τερματισμό στην κεντρική πλατεία Γραμματικού.\nΗ διαδρομή του αγώνα των 17 χλμ έχει εκκίνηση και τερματισμό την κεντρική πλατεία Γραμματικού πλατεία Ηρώων με κατεύθυνση εντός του χωριού και περιλαμβάνει τις οδούς Πίνδου- Ριμινι- Προφήτη Ηλία- κατασκηνώσεις Αthitaki Sports Village – Σελκι- προς Σεσι- περιοχή Λιμικο- αρχαιολογικός χώρος εξωτερικά Ραμνούντα και επιστροφή ξανά από την ίδια διαδρομή. Περίπου στο 7ο χλμ μπαίνουμε σε βατή χωμάτινη δασικήδιαδρομή ΟΧΙ  ΜΟΝΟΠΑΤΙ  απόστασης 1800μ με κατεύθυνση στον αρχαιολογικό χώρο Ραμνούντα εξωτερικά με αναστροφή και επιστροφή από τον ίδιο χωμάτινο δασικό δρόμο 1800μ βγαίνοντας στην ασφαλτινη διαδρομή και με την ίδια κατεύθυνση επιστροφή προς τον τερματισμό στην κεντρική πλατεία Ηρώων  στο Γραμματικό. \nΗ εκκίνηση του αγώνα των 6\,5χλμ( είναι 6.400μ) δίνεται στις 10:30πμ από την κεντρική πλατεία Γραμματικού και έχει εκκίνηση και τερματισμό την κεντρική πλατεία του Γραμματικού πλατεία Ηρώων με κατεύθυνση εντός του χωριού και περιλαμβάνει τις οδούς Πίνδου- Ριμινι- Προφήτη Ηλία με κατεύθυνση προς περιοχή Σελκι και επιστροφή από την κατασκήνωση sports village Athitaki και τερματισμό από την ίδια διαδρομή στην πλατεία Ηρώων στο Γραμματικό. \nΘα υπάρχουν σταθμοί εφοδιασμού ανά 3χλμ. με νερό-ισοτονικό-μπανάνα. Επίσης θα υπάρχει σήμανση διαδρομής και αρίθμηση ανά χλμ. \n \nΔες εδώ τους αγώνες τρεξίματος που έχει συμμετάσχει το Running Scenes
URL:https://running-scenes.gr/kalentari-agwnes-treksimatos/7os-agwnas-dromou-ramnous-grammatiko/
LOCATION:Κεντρική πλατεία Γραμματικού\, Epar.Od. Marathon-Kapandritiou 17-1\, Grammatiko 190 07\, Γραμματικό\, Γραμματικό\, 190 07
CATEGORIES:Tρέξιμο Δρόμου
ATTACH;FMTTYPE=image/jpeg:https://running-scenes.gr/wp-content/uploads/2022/02/Ramnous-Agwnes-Running.jpg
END:VEVENT
BEGIN:VEVENT
DTSTART;TZID=Europe/Athens:20220227T080000
DTEND;TZID=Europe/Athens:20220227T170000
DTSTAMP:20260421T205540
CREATED:20211109T173230Z
LAST-MODIFIED:20220105T175112Z
UID:5926-1645948800-1645981200@running-scenes.gr
SUMMARY:7ο Lycabettus Run
DESCRIPTION:Το 7ο Lycabettus Run έρχεται στις 27 Φεβρουαρίου 2022.  Η Οργανωτική Επιτροπή της δημοφιλούς και βραβευμένης διοργάνωσης τρεξίματος Lycabettus Run\, ανακοινώνει την ημερομηνία της επόμενης διοργάνωσης. Έτσι λοιπόν το 7ο Lycabettus Run (δεν πραγματοποιήθηκε το 2021 εξαιτίας του covid-19)\, θα πραγματοποιηθεί την Κυριακή 27 Φεβρουαρίου 2022. \nΤη διοργάνωση θα επιμεληθεί η εταιρεία MYSPORTEVENT με την ευγενική υποστήριξη του St. George Lycabettus Lifestyle Hotel.\nΣύντομα θα δημοσιευτεί η πλήρης προκήρυξη της διοργάνωσης. \nΣύντομα θα ανοίξουν και οι εγγραφές\, μέσα από την ιστοσελίδα της διοργάνωσης. \nΠερισσότερες πληροφορίες:  \nSite: www.lycabettusrun.gr \nFacebook Page: www.facebook.com/lycabettusrun \n\nΔες εδώ τους αγώνες τρεξίματος που έχει συμμετάσχει το Running Scenes
URL:https://running-scenes.gr/kalentari-agwnes-treksimatos/7%ce%bf-lycabettus-run/
LOCATION:Ευβοίας
CATEGORIES:Tρέξιμο Δρόμου
ATTACH;FMTTYPE=image/jpeg:https://running-scenes.gr/wp-content/uploads/2021/11/Lycabettus-Runn.jpg
END:VEVENT
BEGIN:VEVENT
DTSTART;TZID=Europe/Athens:20220220T080000
DTEND;TZID=Europe/Athens:20220220T170000
DTSTAMP:20260421T205540
CREATED:20220105T174707Z
LAST-MODIFIED:20220201T134851Z
UID:6152-1645344000-1645376400@running-scenes.gr
SUMMARY:22ος Δρόμος Βουνού - Υμηττός 2022
DESCRIPTION:Ο Δημοτικός Οργανισμός Πολιτισμού Αθλητισμού & Περιβάλλοντος  προκηρύσσει τον “22ος Δρόμος Βουνού – Υμηττός 2022”\, ο οποίος θα διεξαχθεί την Κυριακή 20 Φεβρουαρίου 2022. \nΗΜΕΡΟΜΗΝΙΑ ΔΙΕΞΑΓΩΓΗΣ:  Κυριακή 20 Φεβρουαρίου 2022 \nΩΡΑ ΕΚΚΙΝΗΣΗΣ: 10:00 π.μ. \nΤΟΠΟΣ ΕΚΚΙΝΗΣΗΣ & ΤΕΡΜΑΤΙΣΜΟΣ: Αθλητικό Κέντρο Χολαργού «ΑΝΤΩΝΗΣ ΠΟΛΥΔΩΡΑΣ» (τέρμα οδού Σύρου) \nΔΗΛΩΣΕΙΣ ΣΥΜΜΕΤΟΧΗΣ: Θα γίνονται αποκλειστικά διαδικτυακά στο παρακάτω link: \nhttps://www.myrace.gr/event/3492/registrations.html  από την Δευτέρα 27/12/2021 έως και την Κυριακή 30/1/2022. Οι συμμετέχοντες πρέπει να αποστέλλουν μία συμμετοχή. Δεν θα πραγματοποιηθούν εγγραφές την ημέρα του αγώνα. \nΔικαίωμα συμμετοχής έχουν όλοι όσοι είναι άνω των 18 ετών και θα πρέπει να προσκομίσουν: \n\nπιστοποιητικό εμβολιασμού (τουλάχιστον 14 ημερών από την ολοκλήρωση του) ή\nβεβαίωση νόσησης (των τελευταίων 90 ημερών) ή\nαρνητικό PCR 72 ωρών ή\nRapid-test 48 ωρών\n\nΟΡΙΟ ΣΥΜΜΕΤΟΧΩΝ: Ο ανώτατος αριθμός συμμετοχών ανέρχεται στις 300 (τριακόσιες). \nΤηλέφωνα επικοινωνίας: 2106543879 (εσωτ. 1)\, 2106549408\, 2106549033 \nΚΟΣΤΟΣ ΣΥΜΜΕΤΟΧΗΣ: \n\nΚόστος συμμετοχής 5\,00 €\, για ετεροδημότες\n\n\nΔημότες / Κάτοικοι Παπάγου – Χολαργού: Δωρεάν\n\nΤο ποσό θα κατατίθεται στον παρακάτω λογαριασμό του ΔΟΠΑΠ στην EUROBANK: \nΑριθ. Λογαρ.: 00260644610200161813 –  IBAN: GR5702606440000610200161813     (τα τραπεζικά έξοδα επιβαρύνουν τους συμμετέχοντες). \nΧΡΟΝΟΜΕΤΡΗΣΗ: Θα πραγματοποιηθεί ηλεκτρονική χρονομέτρηση\, από την εταιρεία All About Running. \nΠΑΡΑΔΟΣΗ ΑΡΙΘΜΩΝ: Το Σάββατο 5 Φεβρουαρίου 2022\, 10:00 – 15:00\, στα γραφεία του Δ.Ο.Π.Α.Π.\, της Κοινότητας Χολαργού\, στο Αθλητικό Κέντρο Χολαργού «ΑΝΤΩΝΗΣ ΠΟΛΥΔΩΡΑΣ» (τέρμα οδού Σύρου) και την Κυριακή 6 Φεβρουαρίου 2022\, 08:00-09:30 (αυστηρά)\, από την γραμματεία του αγώνα. \nΗ παράδοση των αριθμών  θα γίνεται με την επίδειξη: \n\nτης αστυνομικής ταυτότητας ή του διαβατηρίου ή του διπλώματος οδήγησης και\nπιστοποιητικού εμβολιασμού (τουλάχιστον 14 ημερών από την ολοκλήρωση του) ή\nβεβαίωσης νόσησης (των τελευταίων 90 ημερών) ή\nαρνητικό PCR 72 ωρών ή\nRapid-test 48 ωρών\n\nΕΠΑΘΛΑ: Θα δοθούν κύπελλα στους 1ους κάθε κατηγορίας\, μετάλλια στους τρεις (3) 1ους κάθε κατηγορίας και αναμνηστικά μετάλλια\, θα δοθούν σε όλους τους συμμετέχοντες. Θα υπάρχει η δυνατότητα έκδοσης ηλεκτρονικού διπλώματος. \nΔεν θα πραγματοποιηθεί τελετή απονομών\, οι νικητές/τριες κάθε κατηγορίας θα παραλαμβάνουν μόνοι τους το μετάλλιο τους\, χωρίς επαφή με άλλους και συνωστισμό. \nΙΑΤΡΙΚΟΣ ΕΛΕΓΧΟΣ: Η υποβολή σε ιατρικό έλεγχο των αθλητών και των αθλητριών είναι απαραίτητη για την συμμετοχή τους στον αγώνα. Οι αθλητές και οι αθλήτριες μετέχουν στον “22ος Δρόμος Βουνού – Υμηττός 2022″\, με δική τους ευθύνη. \nΙΑΤΡΙΚΗ ΥΠΟΣΤΗΡΙΞΗ:  Στον “22ος Δρόμος Βουνού – Υμηττός 2022″ θα υπάρχει παρουσία ιατρών και ασθενοφόρου.  \nΔΙΑΔΡΟΜΗ: Ο Ημιμαραθώνιος Δρόμος Βουνού (21 χλμ.)  διεξάγεται σε άσφαλτο και σκληρό χωματόδρομο με υψομετρική διαφορά 350μ. και θεωρείται δρόμος δύσκολος και με προχωρημένες απαιτήσεις από πλευράς φυσικής κατάστασης για τον αθλητή και την αθλήτρια. \nΓΕΝΙΚΕΣ ΠΑΡΑΤΗΡΗΣΕΙΣ: \n\nΣε κανένα σημείο της διοργάνωσης δεν επιτρέπεται η παρουσία θεατών και συστήνεται σε όλους τους συμμετέχοντες να μην συνοδεύονται από άτομα που δεν θα λάβουν μέρος στη διοργάνωση.\nΔεν θα υπάρχει η δυνατότητα χρήσης αποδυτηρίων\, ούτε αντίστοιχα και η φύλαξη προσωπικών αντικειμένων.\n\n\nΔες εδώ τους αγώνες τρεξίματος που έχει συμμετάσχει το Running Scenes
URL:https://running-scenes.gr/kalentari-agwnes-treksimatos/22os-dromos-vounou-ymhttos/
LOCATION:Αθλητικό Κέντρο Χολαργού «ΑΝΤΩΝΗΣ ΠΟΛΥΔΩΡΑΣ»\, Αργυροκάστρου και Νευροκοπίου\, Παπάγος\, Αττικής\, 155 61
CATEGORIES:Ορεινό Τρέξιμο Βουνού Trail
ATTACH;FMTTYPE=image/jpeg:https://running-scenes.gr/wp-content/uploads/2022/01/22os-dromos-vounou-ymhttos.jpg
ORGANIZER;CN="%CE%94%CE%9F%CE%A0%CE%91%CE%A0":MAILTO:dopap.papxol@gmail.com
END:VEVENT
BEGIN:VEVENT
DTSTART;TZID=Europe/Athens:20220206T080000
DTEND;TZID=Europe/Athens:20220206T170000
DTSTAMP:20260421T205540
CREATED:20211123T161823Z
LAST-MODIFIED:20220118T120258Z
UID:5987-1644134400-1644166800@running-scenes.gr
SUMMARY:6ο Veikou Trail
DESCRIPTION:6ο Veikou Trail -Η Οργανωτική Επιτροπή του 6ου Veikou Trail\, μετά και την απαραίτητη έγκριση του Υγειονομικού Πρωτοκόλλου\, από την Αρμόδια Υγειονομική Επιστημονική Επιτροπή της ΓΓΑ\, ανακοινώνει την νέα ημερομηνία διεξαγωγής του 6ου Veikou Trail. \nΈτσι λοιπόν η διοργάνωση θα πραγματοποιηθεί την Κυριακή 06 Φεβρουαρίου. \nΟι εγγραφές θα ανοίξουν σύντομα. Οι εγγραφές που έχουν πραγματοποιηθεί μέχρι και το κλείσιμο\, είναι ενεργές και όσοι δρομείς επιθυμούν να λάβουν μέρος στην νέα ημερομηνία\, μπορούν να προχωρήσουν στην πληρωμή του αντιτίμου συμμετοχής. \nΟι εγγραφές θα κλείσουν την Τετάρτη 26 Ιανουαρίου στις 12 το βράδυ. \nΌσοι δρομείς έχουν ολοκληρώσει την εγγραφής τους και αδυνατούν ή δεν επιθυμούν να λάβουν μέρος στην νέα ημερομηνία\, θα λάβουν πίσω το αντίτιμο συμμετοχής. Θα πρέπει όμως απαραίτητα να επικοινωνήσουν με την διοργάνωση\, στο info@veikoutrail.gr\, αποστέλλοντας τραπεζικό λογαριασμό Πειραιώς με το όνομα του δικαιούχου. Επίσης θα πρέπει να αναφέρουν το ονοματεπώνυμο του δρομέα και τον αριθμό VT-…  της εγγραφής τους. Σε περίπτωση άλλης Τράπεζας\, εκτός της συνεργαζόμενης\, θα επιστρέφεται το ποσό της εγγραφής μείον της τραπεζικής προμήθειας. \nΗ ακύρωση της συμμετοχής είναι δυνατή μέχρι και το κλείσιμο των εγγραφών. Μετά το πέρας της ημερομηνίας και της ώρας που έχει ανακοινωθεί\, δεν υπάρχει δυνατότητα ακύρωσης και επιστροφή του αντιτίμου συμμετοχής. \nΓια περισσότερες πληροφορίες\, οι δρομείς μπορούν να επικοινωνούν με την οργανωτική επιτροπή του αγώνα μέσω email στο info@veikoutrail.gr. Διαρκής ενημέρωση για το 6ο Veikou Trail παρέχεται επίσης μέσω της ιστοσελίδας της διοργάνωσης www.veikoutrail.gr και της σελίδας facebook www.facebook.com/veikoutrail \nΑποστάσεις αγώνων\n\n– Αγώνας Trail (κυρίως χωμάτινος) 5 χλμ\n– Αγώνας Trail (κυρίως χωμάτινος) 10 χλμ\n– Αγώνας Trail 10 χλμ Relay (2 X 5χλμ)\n\nΓια περισσότερες πληροφορίες\, οι δρομείς μπορούν να επικοινωνούν με την οργανωτική επιτροπή του αγώνα  μέσω email στο info@veikoutrail.gr.  \nΔιαρκής ενημέρωση για το 6ο Veikou Trail παρέχεται επίσης μέσω της ιστοσελίδα της διοργάνωσης www.veikoutrail.gr και της σελίδας facebook www.facebook.com/veikoutrail \n\nΔες εδώ τους αγώνες τρεξίματος που έχει συμμετάσχει το Running Scenes
URL:https://running-scenes.gr/kalentari-agwnes-treksimatos/6%ce%bf-veikou-trail/
LOCATION:Άλσος Βεΐκου\, Galatsi 111 47\, Γαλάτσι\, Αττικής\, 111 47\, Ελλάδα
CATEGORIES:Ορεινό Τρέξιμο Βουνού Trail
ATTACH;FMTTYPE=image/png:https://running-scenes.gr/wp-content/uploads/2021/11/Veikou-Trail.png
END:VEVENT
BEGIN:VEVENT
DTSTART;TZID=Europe/Athens:20211017T080000
DTEND;TZID=Europe/Athens:20211017T080000
DTSTAMP:20260421T205540
CREATED:20210916T113840Z
LAST-MODIFIED:20211025T163415Z
UID:5810-1634457600-1634457600@running-scenes.gr
SUMMARY:13oς Αγώνας Ορεινού Δρόμου Άρμα Πάρνηθας 2021
DESCRIPTION:«Ο Ελληνικός Πολιτιστικός Ορειβατικός Σύλλογος (Ε.Π.Ο.Σ.) Φυλής διοργανώνει την Κυριακή 17 Οκτωβρίου 2021 και για 13η συνεχή χρονιά τον 13oς Αγώνας Ορεινού Δρόμου Άρμα Πάρνηθας 2021 (δύο διαδρομές μήκους: α. 17 χλμ. για έμπειρους δρομείς και β. 10 χλμ. για το ευρύ κοινό) περιμετρικά της χαρακτηριστικής ορθοπλαγιάς «Άρμα» στη δυτική πλευρά του Εθνικού Δρυμού της Πάρνηθας». \nΔιάβασε εδώ την εμπειρία συμμετοχής μου στο Άρμα Πάρνηθας “Άρμα Πάρνηθας: O Λαγός και το βουνίσιο αλισβερίσι” \nΘα περιλαμβάνει αποστάσεις  \n\n17χλμ\n10 χλμ \n\n13oς Αγώνας Ορεινού Δρόμου Άρμα Πάρνηθας 2021\n\nΗ μικρή διαδρομή\, είναι μήκους 10 χλμ. (από τα οποία 2\,5χλμ. σε μονοπάτι) με 300 μέτρα αθροιστικής υψομετρικής διαφοράς. Η διαδρομή αυτή απευθύνεται σε λιγότερο έμπειρους δρομείς που θέλουν να συμμετάσχουν και να τρέξουν στην δασωμένη Δυτική Πάρνηθα.\nΗ καθιερωμένη διαδρομή εκτείνεται σε μήκος 17 χλμ. με  900 περίπου μέτρα αθροιστικής υψομετρικής διαφοράς και κινείται σε περιοχές ιδιαίτερης φυσικής ομορφιάς της Δυτικής Πάρνηθας\, περιμετρικά της χαρακτηριστικής ορθοπλαγιάς «Άρμα»\, η οποία αποτελεί το φυσικό όριο της ονομαστής χαράδρας της Γκούρας. Περνά από ορειβατικά μονοπάτια\, ρυάκια και δασικούς δρόμους που συναντούν σημεία με φυσική και ιστορική σημασία για την περιοχή (ρέμα Γιαννούλας\, πηγή Ταμίλθι\, πηγές αρχαίας Φυλής) και σε περιοχή δασωμένη\, η οποία σώθηκε από την καταστροφική πυρκαγιά του 2007\nΗ παραλαβή των πακέτων συμμετοχής (αριθμός – chip χρονομέτρησης κλπ.) γίνεται την ημέρα του αγώνα από τις 07:30 έως τις 09:00 από τη Γραμματεία (Πηγές Αρχαίας Φυλής).\nΗ αφετηρία και ο τερματισμός και των 2 διαδρομών είναι οι Πηγές της Αρχαίας Φυλής. Η εκκίνηση είναι κοινή και δίνεται στις09:30. \nΟ αγώνας λήγει 3:30 ώρες μετά την εκκίνηση και σταματά η χρονομέτρηση.\n\nΔες εδώ τους αγώνες τρεξίματος που έχει συμμετάσχει το Running Scenes
URL:https://running-scenes.gr/kalentari-agwnes-treksimatos/13o%cf%82-%ce%b1%ce%b3%cf%8e%ce%bd%ce%b1%cf%82-%ce%bf%cf%81%ce%b5%ce%b9%ce%bd%ce%bf%cf%8d-%ce%b4%cf%81%cf%8c%ce%bc%ce%bf%cf%85-%ce%ac%cf%81%ce%bc%ce%b1-%cf%80%ce%ac%cf%81%ce%bd%ce%b7%ce%b8%ce%b1%cf%82/
LOCATION:Πάρνηθα\, Άνω Λιόσια\, Άνω Λιόσια\, Δερβενοχώρια\, 13341
CATEGORIES:Ορεινό Τρέξιμο Βουνού Trail
ORGANIZER;CN="%CE%91%CE%B8%CE%BB%CE%B7%CF%84%CE%B9%CE%BA%CF%8C%CF%82 - %CE%9F%CF%81%CE%B5%CE%B9%CE%B2%CE%B1%CF%84%CE%B9%CE%BA%CF%8C%CF%82 %CE%A0%CE%BF%CE%BB%CE%B9%CF%84%CE%B9%CF%83%CF%84%CE%B9%CE%BA%CF%8C%CF%82 %CE%A3%CF%8D%CE%BB%CE%BB%CE%BF%CE%B3%CE%BF%CF%82":MAILTO:eposfilis@gmail.com
END:VEVENT
BEGIN:VEVENT
DTSTART;VALUE=DATE:20211017
DTEND;VALUE=DATE:20211018
DTSTAMP:20260421T205540
CREATED:20210817T123522Z
LAST-MODIFIED:20210817T130744Z
UID:5753-1634428800-1634515199@running-scenes.gr
SUMMARY:1oυ West Run Würth
DESCRIPTION:Ανοίγουν σύντομα οι εγγραφές του 1oυ West Run Würth\n1oυ West Run Würth Την Κυριακή 17 Οκτωβρίου 2021 θα πραγματοποιηθεί η διοργάνωση με την επωνυμία 1ο West Run Würth\, που έρχεται  να ταράξει τα νερά της δρομικής κοινότητας. \nΤο 1ο West Run Würth αποτελεί μια διοργάνωση του δήμου Αγίων Αναργύρων – Καματερού. Την επιμέλεια και την τεχνική υποστήριξη της διοργάνωσης έχει αναλάβει η My Sportevent.  Η Οργανωτική Επιτροπή της διοργάνωσης ανακοινώνει ότι οι εγγραφές για το 1ο West Run Würth θα ανοίξουν άμεσα\, εντός των επόμενων ημερών και θα είναι διαθέσιμες μέσα από την ιστοσελίδα της διοργάνωσης www.westrun.gr. \nΘα περιλαμβάνει αποστάσεις  \n\n20 χλμ\, σκυταλοδρομία \n20 χλμ (2 Χ 10 χλμ)\n 5 χλμ και παιδικό αγώνα.\n\nΗ ιστοσελίδα της διοργάνωσης ενημερώνεται τακτικά\, και οι ενδιαφερόμενοι δρομείς\, μπορούν να την επισκέπτονται για οποιαδήποτε πληροφορία. Για περισσότερες πληροφορίες\, οι δρομείς μπορούν να επικοινωνούν με την οργανωτική επιτροπή του αγώνα μέσω email στο info@westrun.gr \nΚάνε like στη σελίδα στο facebook & follow στο instagram για να μαθαίνεις πρώτος του νέου μεγάλου δρομικού γεγονότος!!! \nHashtag: #westrun #westrunwürth #würthellas #würth #mysportevent \n\nΔες εδώ τους αγώνες τρεξίματος που έχει συμμετάσχει το Running Scenes
URL:https://running-scenes.gr/kalentari-agwnes-treksimatos/1st-west-run-wurth/
LOCATION:1oυ West Run Würth\, ΑΓΙΟΙ ΑΝΑΡΓΥΡΟΙ ΑΤΤΙΚΗΣ\, Αθήνα\, 13561
CATEGORIES:Tρέξιμο Δρόμου
ATTACH;FMTTYPE=image/png:https://running-scenes.gr/wp-content/uploads/2021/08/1st-west-run-wurth.png
END:VEVENT
BEGIN:VEVENT
DTSTART;TZID=Europe/Athens:20210828T080000
DTEND;TZID=Europe/Athens:20210828T173000
DTSTAMP:20260421T205540
CREATED:20210819T084307Z
LAST-MODIFIED:20210819T084423Z
UID:5767-1630137600-1630171800@running-scenes.gr
SUMMARY:Skyros Run 2021
DESCRIPTION:Στις 27\, 28 και 29 Αυγούστου καρδιά του δρομικού\, fitness και πολιτιστικού κινήματος “χτυπάει” στο όμορφο νησί των βορείων Σποράδων όπου φέτος θα πραγματοποιηθει το Skyros Run 2021. \nΠρόκειται για τη 3η διοργάνωση η οποία ξεφεύγει από τα συνηθισμένα και έχει καθιερωθεί πια σαν ένας από τους σημαντικότερους αγώνες στο δρομικό καλεντάρι\, τόσο για την αθλητική όσο και για την πολιτιστική της διάσταση. \nΜε 4 αγώνες 21χλμ\, 10χλμ\, 5χλμ\, 1000μ για παιδιά το Skyros Run αυξάνει το κοινό του και μπαίνει δυναμικά στα δρομικά events φιλοδοξώντας να κάνει τη διαφορά. Ταυτόχρονα πλήθος παράλληλων εκδηλώσεων\, με έμφαση στον πολιτισμό αλλά και για πρώτη φορά fitness εκδηλώσεις\, με τη συμμετοχή γνωστών επαγγελματιών του χώρου\, φιλοδοξούν να κρατήσουν αμείωτο το ενδιαφέρον των συμμετεχόντων. \nΠερισσότερες πληροφορίες στο https://www.skyrosrun.com/ και https://www.facebook.com/skyrosrun/ \nSkyros Run 2021\nΠρόγραμμα Skyros Run 2021\nΠΑΡΑΣΚΕΥΗ 27/8 \n-Γραμματεία\, παραλαβή πακέτων συμμετοχής \nΏρα: 17.00 – 19.00 \nΤόπος: κεντρική πλατεία Σκύρου \n-Welcome night\, pasta party \nΏρα: 21.00 \nΤόπος: ΑΙΓΑΙΟΡΙΣ Πολυχώρος \n-Τεχνική ενημέρωση \n-Παραδοσιακοί χοροί από την χορευτική ομάδα Σκύρου \n-Γεύμα με ζυμαρικά \n-Ζωντανή ελληνική μουσική \n*Στον χώρο θα διατίθενται ποτά σε ειδικές τιμές για τους δρομείς και τους συνοδούς τους. \nΣΑΒΒΑΤΟ 28/8 \n-Γραμματεία\, παραλαβή πακέτων συμμετοχής \nΏρα: 10.00-14.00 \nΤόπος: Juicy beach bar\, παραλία Μαγαζιά \nΏρα: 16.00-17.00 \nΤόπος: Κεντρική πλατεία Σκύρου \n-Pilates beach session \nΏρα: 11.00 –  11.50 \nΤόπος: Juicy beach bar\, παραλία Μαγαζιά. \nΦορέστε το μαγιό σας\, φέρτε την πετσέτα σας και χαλαρώστε με ένα πρόγραμμα pilates υπό την καθοδήγηση της καθηγήτριας φυσικής αγωγής-εκπαιδεύτρια pilates Σοφία Καρυώτη. \n-Εκκίνηση αγώνων \n1.Παιδικός αγώνας: εκκίνηση Γυμνάσιο Σκύρου \nΏρα: 17.00 \n2. 21χλμ. εκκίνηση κεντρική πλατεία Σκύρου \nΏρα: 17.45 \n3. 10χλμ. εκκίνηση κεντρική πλατεία Σκύρου \nΏρα: 18.00 \n4. 5χλμ. εκκίνηση κεντρική πλατεία Σκύρου \nΏρα: 18.15 \n– Δωρεάν μπουφές για τους δρομείς \nΏρα: 20.00 \nΤόπος: κεντρική πλατεία Σκύρου \n– Απονομές\n \nΏρα: 20.30 \nΤόπος: κεντρική πλατεία Σκύρου \n– After race party \nΏρα: 22.30 \nΤόπος: Οινώ καφέρ μπαρ\, Χώρα. \n* Ειδικές τιμές στα ποτά για όλους τους δρομείς και τους συνοδούς τους \nΚΥΡΙΑΚΗ 29/8 \n-Pilates beach session vol.2\n \nΏρα: 11.00-11.50\n \nΤόπος: Αμμουδιά beach bar\, παραλία Μαγαζιά.\n \nΦορέστε το μαγιό σας\, φέρτε την πετσέτα σας και χαλαρώστε με ένα πρόγραμμα pilates υπό την καθοδήγηση της καθηγήτριας φυσικής αγωγής-εκπαιδεύτρια pilates Σοφία Καρυώτη. \n– Beach fun games \nΏρα: 12.00 – 12.45\n \nΤόπος: Αμμουδιά beach bar\, Παραλία Μαγαζιά\n \nΣυνδυάζουμε παιχνίδι και γυμναστική αποθεραπείας υπό την καθοδήγηση των personal trainers Μαριλίνα Βακονδίου και Μαρίας Μαλαματίνη.\n \n-Kid’s athletics \nΏρα: 11.30 – 12.30 \nΤόπος: Αμμουδιά beach bar\, Παραλία Μαγαζιά\n \nΠαιχνίδια στην άμμο για παιδιά υπό την καθοδήγηση της γυμνάστριας-fitness running coach Έφης Σαλμά και της πρωταθλήτριας στο \nάλμα εις μήκος Oxana Koreneva\n \n-Beach acro yoga \nΏρα: 13.00 – 13.45 \nΤόπος: Αμμουδιά beach bar\, Παραλία Μαγαζιά\n \nΠαρακολουθείστε ένα εντυπωσιακό πρόγραμμα ακροβατικής γιόγκα και μάθετε τις βασικές της αρχές υπό την καθοδήγηση της δασκάλας γιόγκα Ζωής Μελέτη.\n \n-Beach party \nΏρα: 14.00 – 18.00 \nΤόπος: Αμμουδιά beach bar\, Παραλία Μαγαζιά\n \n*Φαγητό και ποτό σε ειδικές τιμές για όλους τους δρομείς και τους συνοδούς τους \n\nΔες εδώ τους αγώνες τρεξίματος που έχει συμμετάσχει το Running Scenes
URL:https://running-scenes.gr/kalentari-agwnes-treksimatos/skyros-run-2021/
LOCATION:Ευβοίας
CATEGORIES:Tρέξιμο Δρόμου
ATTACH;FMTTYPE=image/png:https://running-scenes.gr/wp-content/uploads/2021/08/skyros-run.png
ORGANIZER;CN="Skyros Run":MAILTO:skyrosrun@gmail.com
END:VEVENT
END:VCALENDAR