BEGIN:VCALENDAR
VERSION:2.0
PRODID:-//Running Scenes - ECPv6.15.17.1//NONSGML v1.0//EN
CALSCALE:GREGORIAN
METHOD:PUBLISH
X-WR-CALNAME:Running Scenes
X-ORIGINAL-URL:https://running-scenes.gr
X-WR-CALDESC:Events for Running Scenes
REFRESH-INTERVAL;VALUE=DURATION:PT1H
X-Robots-Tag:noindex
X-PUBLISHED-TTL:PT1H
BEGIN:VTIMEZONE
TZID:Europe/Athens
BEGIN:DAYLIGHT
TZOFFSETFROM:+0200
TZOFFSETTO:+0300
TZNAME:EEST
DTSTART:20230326T010000
END:DAYLIGHT
BEGIN:STANDARD
TZOFFSETFROM:+0300
TZOFFSETTO:+0200
TZNAME:EET
DTSTART:20231029T010000
END:STANDARD
BEGIN:DAYLIGHT
TZOFFSETFROM:+0200
TZOFFSETTO:+0300
TZNAME:EEST
DTSTART:20240331T010000
END:DAYLIGHT
BEGIN:STANDARD
TZOFFSETFROM:+0300
TZOFFSETTO:+0200
TZNAME:EET
DTSTART:20241027T010000
END:STANDARD
BEGIN:DAYLIGHT
TZOFFSETFROM:+0200
TZOFFSETTO:+0300
TZNAME:EEST
DTSTART:20250330T010000
END:DAYLIGHT
BEGIN:STANDARD
TZOFFSETFROM:+0300
TZOFFSETTO:+0200
TZNAME:EET
DTSTART:20251026T010000
END:STANDARD
BEGIN:DAYLIGHT
TZOFFSETFROM:+0200
TZOFFSETTO:+0300
TZNAME:EEST
DTSTART:20260329T010000
END:DAYLIGHT
BEGIN:STANDARD
TZOFFSETFROM:+0300
TZOFFSETTO:+0200
TZNAME:EET
DTSTART:20261025T010000
END:STANDARD
BEGIN:DAYLIGHT
TZOFFSETFROM:+0200
TZOFFSETTO:+0300
TZNAME:EEST
DTSTART:20270328T010000
END:DAYLIGHT
BEGIN:STANDARD
TZOFFSETFROM:+0300
TZOFFSETTO:+0200
TZNAME:EET
DTSTART:20271031T010000
END:STANDARD
END:VTIMEZONE
BEGIN:VEVENT
DTSTART;TZID=Europe/Athens:20240615T080000
DTEND;TZID=Europe/Athens:20240616T170000
DTSTAMP:20260421T082753
CREATED:20240412T120839Z
LAST-MODIFIED:20240412T120839Z
UID:7216-1718438400-1718557200@running-scenes.gr
SUMMARY:3ο Paros Way 2024 – Τρέξιμο & Κολύμπι
DESCRIPTION:3ο Paros Way 2024 – Η αθλητική διοργάνωση που έγινε θεσμός έρχεται για τρίτη χρονιά στο πανέμορφο νησί της Πάρου. Το 3ο Paros Way 2024 – Πολυϊατρεία Αιγαίου επανέρχεται το διήμερο 15-16 Ιουνίου 2024\, ένα από τα σημαντικότερα αθλητικά δρώμενα της Ελλάδος με διαφορετικές διαδρομές σε τρέξιμο\, κολύμβηση αλλά και Aquathlon καθώς και πλήθος παράλληλων δράσεων. \nΜεγάλος χορηγός του 3ο Paros Way 2024 είναι για άλλη μια χρονιά τα Πολυϊατρεία Αιγαίου. \nΠρόκειται για μια ετήσια αθλητική δράση\, η οποία απευθύνεται στο ευρύ κοινό με βασικό σκοπό την άθληση\, την ευεξία και την διασκέδαση\, στις αρχές καλοκαιριού στην Παροικιά της Πάρου. Μια μοναδική αθλητική εμπειρία που συνδυάζει την άσκηση και τον τουρισμό με Αιγαιοπελαγίτικο φόντο. Μια αθλητική πρόκληση που σε προσκαλεί να την ανακαλύψεις σε ένα διήμερο γεμάτο ενέργεια και Κυκλαδίτικη αρχοντιά. \nTo 3ο Paros Way 2024 – Πολυϊατρεία Αιγαίου πραγματοποιείται υπό την αιγίδα του Δήμου της Πάρου με την υποστήριξη των Πολυϊατρείων Αιγαίου από την Διοργανώτρια Εταιρεία MySportEvent ( https://www.mysportevent.gr/ ) \nΠιο συγκεκριμένα\, τα αγωνίσματα είναι : \n\nΤρέξιμο 21 km\, 5 km\nΚολύμβηση 3 km\, 1\,5 km\, 750m\nAquathlon Ατομικό\, Relay (750m Κολύμπι + 5km Τρέξιμο)\n\nΔικαίωμα συμμετοχής έχουν όσοι έχουν συμπληρώσει το 18ο έτος της ηλικίας τους. Για άτομα κάτω των 18\, απαιτείται Υπεύθυνη Δήλωση Συναίνεσης από τον γονέα / κηδεμόνα.\nΗ συμμετοχή στο 3o Paros Way – Πολυϊατρεία Αιγαίου προϋποθέτει την εγγραφή του αθλητή είτε ατομικά είτε ομαδικά στην ιστοσελίδα της διοργανώτριας αρχής https://parosway.gr/. \nΟι εγγραφές\, σύμφωνα με την προκήρυξη του αγώνα\, ολοκληρώνονται την 5η Ιουνίου 2024. Παράλληλα με τα αθλητικά αγωνίσματα θα υπάρχουν και παράλληλες δράσεις\nόπως συνεδρίες yoga σην παραλία\, καθαρισμό ακτής από συμμετέχοντες και εθελοντές καθώς και ένα υπέροχο Pasta Party το Σάββατο 15 Ιουνίου με καλεσμένους όλους τους συμμετέχοντες αλλά και τοπικούς φορείς και συλλόγους. Ακόμα το πρόγραμμα των δράσεων θα πλαισιωθεί από μια σειρά κληρώσεων και δώρων. \nΠαροχές Αθλητή 3ο Paros Way 2024\n\nΚολυμβητικό Σκουφάκι (Κολύμβηση)\nΑναμνηστικό Μετάλλιο. Επιπλέον Έπαθλα απονέμονται στους τρειςπρώτους κάθε κατηγορίας (Άντρες – Γυναίκες).\nΔίπλωμα συμμετοχής\nΥγειονομική Κάλυψη. Στον αγώνα θα υπάρχει ιατρική κάλυψη με παρουσία ασθενοφόρου καθώς και πρωτοβάθμια περίθαλψη\, όπως επίσης και ναυαγοσωστική κάλυψη. Συστήνεται στους συμμετέχοντες να έχουν υποβληθεί πρόσφατα σε ιατρική εξέταση. Από τους διοργανωτές δε θα ζητηθούν ιατρικές βεβαιώσεις\, αφού όλοι οι συμμετέχοντες αγωνίζονται με δική τους αποκλειστική ευθύνη.\nΧρονομέτρηση. Στον αγώνα θα υπάρχει ηλεκτρονική χρονομέτρηση με σημείο ελέγχου στην εκκίνηση/τερματισμό και σε ενδιάμεσο μέσο. Οι\nδρομείς θα φέρουν το chip ηλεκτρονικής χρονομέτρησης (μιας χρήσεως) μαζί με το νούμερο τους. Οι κολυμβητές θα φέρουν chip (βραχιόλι) που\nθα πρέπει να επιστραφεί μετά το τέλος της κούρσας.\nΥδροδοσία σε σταθμους ανεφοδιασμού με εμφιαλωμένο νερό κατά μήκος των διαδρομών και αντίστοιχα τροφοδοσία( μπανάνες)\nΠαροχές χορηγών\n\nΓια την μεταφορά των συμμετεχόντων στο νησί της Πάρου\, η διοργανώτρια εταιρεία έχει εξασφαλίσει 40% έκπτωση στην έκδοση ακτοπλοϊκών εισιτηρίων με την εταιρεία Blue Star Ferries καθώς και εκπτώσεις σε καταλύματα διαμονής αλλά και τοπικά εστιατόρια που θα ανακοινωθούν σύντομα στον ιστότοπο του\nαγώνα. \nΠερισσότερες πληροφορίες:\nEmail επικοινωνίας: info@parosway.gr\nΣτην ιστοσελίδα www.parosway.gr\nΣτο fb: https://www.facebook.com/parosway\nΣτο Instagram: https://www.instagram.com/parosway/ \nΔες εδώ τους αγώνες τρεξίματος που έχει συμμετάσχει το Running Scenes
URL:https://running-scenes.gr/kalentari-agwnes-treksimatos/3o-paros-way-2024-%cf%84%cf%81%ce%ad%ce%be%ce%b9%ce%bc%ce%bf-%ce%ba%ce%bf%ce%bb%cf%8d%ce%bc%cf%80%ce%b9/
LOCATION:Πάρος – Παροικιά  – Νάουσα\, Πάρος\, Παροικιά\, Κυκλάδων\, Παροικιά\, Ελλάδα
CATEGORIES:Tρέξιμο Δρόμου
ATTACH;FMTTYPE=image/jpeg:https://running-scenes.gr/wp-content/uploads/2022/04/Deltio-fb-1200x630-ParosWay-Logo.jpg
END:VEVENT
BEGIN:VEVENT
DTSTART;TZID=Europe/Athens:20241013T080000
DTEND;TZID=Europe/Athens:20241013T170000
DTSTAMP:20260421T082753
CREATED:20241007T105726Z
LAST-MODIFIED:20241007T105726Z
UID:7329-1728806400-1728838800@running-scenes.gr
SUMMARY:Ελάφι Πάρνηθας Trail 2024
DESCRIPTION:Ελάφι Πάρνηθας Trail 2024 – ΗΜΕΡΟΜΗΝΙΑ ΑΓΩΝΑ 13/10/2024 \nΣας καλωσορίζουμε όλους στο καταπράσινο “Ελάφι Πάρνηθας Trail“. \nΔημιουργία τού Α.Σ.ΑΓΩΝ με δύο ακόμη όμορφες καταπράσινες διαδρομές και με πολλές εναλλαγές από δασικούς σε καταπράσινα μονοπάτια. Ένας μοναδικός αγώνας με εκκίνηση και τερματισμό από το καταφύγιο Φλαμπούρι Πάρνηθας. \nΠεριγραφή διαδρομών\nΘα τρέξετε σε δύο καταπράσινες διαδρομές με περισσότερα  χιλιόμετρα σε μονοπάτια παρά σε δασικούς δρόμους. Στον μεγάλο “Ελάφι”  ο αγώνας θα περιλαμβάνει 70% μονοπάτια και 30%  δασικούς δρόμους ενώ στο μικρό “Ελαφάκι” θα τρέξετε 90% σε μονοπάτια και ένα 10% σε δασικούς δρόμους. \nΚανονισμοί αγώνα\n\nΟφείλουμε όλοι να δίνουμε προτεραιότητα στους αθλητές που επιθυμούν να μας προσπεράσουν\nΣεβόμαστε την φύση χωρίς να αφήσουμε οποιοδήποτε σκουπίδι στο αγαπημένο μας βουνό.\nΔείχνουμε σεβασμό στους φίλους εθελοντές και όσους αποτελούν μέλη της διοργάνωσης.\nΚατά την διάρκεια τού αγώνα ακολουθούμε την σήμανση όπου έχει τοποθετηθεί από την διοργάνωση όπου θα αφαιρεθεί μετά την λήξη του αγώνα.\nΌλοι οι αθλητές του μεγάλου αγώνα θα πρέπει να τερματίσουν από την ώρα έναρξης έως 4:40 λεπτά \,μετά από αυτό το χρονικό όριο δεν θά χρονομετρηθεί ο αγωνιζόμενος.\nΥποχρέωση του αγωνιζόμενου να παραδώσει το Τσιπ χρονομέτρησης στην γραμματεία.\nΒάση του κανονισμού του Εθνικού Δρυμού\, απαγορεύονται τα οικόσιτα ζώα στον χώρο του Δρυμού. Συνεπώς δεν θα μπορέσετε να φέρετε τα ζωάκια σας στον αγώνα.\n\nΠαροχές\nΌλοι οι αγωνιζόμενοι θα παραλάβετε πρωτότυπα μετάλλια όπως κάθε χρόνο .Θα  υπάρχει ηλεκτρονική χρονομέτρηση Τσιπ το οποίο τοποθετείται στο πόδι. Κατά τόν τερματισμό σάς θα παραλάβετε νερό και μια μπανάνα Bella Frutta. Επίσης μια μπαντάνα χορηγία από το Better People και το RunNTrail . \nΚατά την παράδοση των BIB Numbers θα παραλάβετε και μια κάρτα την οποία παραδίδετε στο καταφύγιο Φλαμπούρι ώστε να έχετε ένα δωρεάν γεύμα. \nταθμοί τροφοδοσίας\nΌλοι η σταθμοί είναι πλήρης. \n23km \n\n1ος  4km\n2ος 12km\n3ος 16km\n4ος 19km\n\n8km \n\n1ος 4km\n\n\nΏρα εκκίνησης αγώνα\n23Km 09:30 \n8Km 09:45 \nΠαραλαβή BIB number την ημέρα του αγώνα από τις 08:00 έως τις 09:15\, στο σημείο εκκίνησης στο καταφύγιο Φλαμπούρι. \nΏρα απονομών : 13:30 \nΚόστος συμμετοχής \n23Km – 25€ \n8km – 15€ \nΜε την καταβολή τού ποσού πρέπει να αναγράφεται το ονοματεπώνυμο τού αγωνιζόμενου και σε ποιόν αγώνα θα συμμετάσχει. \nΣε περίπτωση ματαίωσης του αγώνα\, θα επιστραφεί ακέραιο το αντίτιμο συμμετοχής εντός 30 ημερών.\nΣε περίπτωση αναβολής του αγώνα\, δεν επιστρέφεται το κόστος συμμετοχής. \nΤελευταία ημέρα πληρωμής 10/10/2024 \nΔες εδώ τους αγώνες τρεξίματος που έχει συμμετάσχει το Running Scenes\n 
URL:https://running-scenes.gr/kalentari-agwnes-treksimatos/elafi-parnithas-trail-2024/
LOCATION:Πάρνηθα\, Άνω Λιόσια\, Άνω Λιόσια\, Δερβενοχώρια\, 13341
CATEGORIES:Ορεινό Τρέξιμο Βουνού Trail
ATTACH;FMTTYPE=image/png:https://running-scenes.gr/wp-content/uploads/2022/08/logo.png
ORGANIZER;CN="%CE%91%CE%B8%CE%BB%CE%B7%CF%84%CE%B9%CE%BA%CF%8C%CF%82 %CE%A3%CF%8D%CE%BB%CE%BB%CE%BF%CE%B3%CE%BF%CF%82 %CE%91%CE%B3%CF%8E%CE%BD":MAILTO:g-kostarelos@hotmail.com
END:VEVENT
BEGIN:VEVENT
DTSTART;TZID=Europe/Athens:20241028T080000
DTEND;TZID=Europe/Athens:20241028T170000
DTSTAMP:20260421T082753
CREATED:20240903T123728Z
LAST-MODIFIED:20240913T092707Z
UID:7317-1730102400-1730134800@running-scenes.gr
SUMMARY:Imittos Epic 2024
DESCRIPTION:Οι εγγραφές για το Imittos Epic και την Ανάβαση Τρελού έχουν ξεκινήσει! Οι διαθέσιμες θέσεις ανά απόσταση είναι περιορισμένες όπως και τα προηγούμενα χρόνια και οι εγγραφές θα κλείσουν μόλις καλυφθούν. \nΚαι οι δύο αγώνες θα γίνουν την ίδια μέρα\, δηλαδή την Δευτέρα 28 Οκτωβρίου το πρωί. \nΤο κόστος συμμετοχής έχει ως εξής: \n\nEpic 24χλμ = 24€\nΑνάβαση Τρελού 12χλμ = 17€\n\nΤΟ αγώνας του Epic συμμετέχει και στο πρωτότυπο πρωτάθλημα ομάδων ορεινού τρεξίματος που ξεκινάει φέτος\, το Triad League. Μπορείτε να δείτε όλες τις σχετικές λεπτομέρειες στο web site: https://www.triadleague.gr/ . Το πρωτάθλημα περιλαμβάνει και τους αγώνες Ελλάνιος Δίας στην Αίγινα και Γίδι στα Μέθανα\, ενώ απονέμει σημαντικά χρηματικά έπαθλα στις ομάδες που θα διακριθούν. \nΣτην διαδρομή του EPIC φέτος θα υπάρχει δυνατότητα\, όποιος ενδιαφέρεται\, να παρακολουθήσει live την θέση του κάθε δρομέα σε χάρτη τριών διαστάσεων. Θα προβάλλεται στίγμα με την εκτιμώμενη θέση του δρομέα σε χάρτη που απεικονίζει τη.διαδρομή Αυτό θα είναι δυνατό για όλους τους δρομείς και θα παρουσιάζεται σε ειδική σελίδα που θα ανακοινωθεί πριν τον αγώνα. \nΗ υπηρεσία αυτή βοηθάει την παρακολούθηση της εξέλιξης του αγώνα\, αλλά ταυτόχρονα αποτελεί μία διαδικασία που ενισχύει την ασφάλεια της διοργάνωσης. \nΗ υπηρεσία προσφέρεται από την Chronolog που έχει την ευθύνη της χρονομέτρησης των αγώνων. \nΠροστασία του Περιβάλλοντος \nΟι αγώνες στον Υμηττό έχουν βασικό κριτήριο την προστασία της φύσης και το μηδενικό αποτύπωμα της διοργάνωσης. Το πλαίσιο των ενεργειών και διαδικασιών που έχουμε υιοθετήσει είναι πρωτότυπες και παρουσιάζονται αναλυτικά στο web site του Imittos Epic. \nΤόσο τα υλικά όσο και οι ενέργειές μας για την διοργάνωση των αγώνων επιτυγχάνουν ελάχιστη επιβάρυνση του φυσικού περιβάλλοντος αλλά ταυτόχρονα συμβάλουν στην προστασία και βελτίωση του οικοσυστήματος του αισθητικού δάσους Υμηττού. \nΗ περιοχή που γίνεται ο αγώνας μας από το 2008\, έχει υποστεί τις μικρότερες ζημιές από πυρκαγιές από τα περιαστικά δάση της Αθήνας\, ενώ η φυσική φθορά από καιρικά φαινόμενα αντιμετωπίζεται άμεσα και με σεβασμό στο δάσος. \nΣας προσκαλούμε να δείτε την παρουσίαση των μέτρων που λαμβάνουμε κάθε χρόνο\, τα οποία και συνεχίζουμε να βελτιώνουμε κάθε χρόνο\, στο web site του αγώνα. \nhttp://www.imittosepic.gr/ \nΔες εδώ τους αγώνες τρεξίματος που έχει συμμετάσχει το Running Scenes
URL:https://running-scenes.gr/kalentari-agwnes-treksimatos/imittos-epic-2024/
LOCATION:Υμηττός\, Greece
CATEGORIES:Ορεινό Τρέξιμο Βουνού Trail
ATTACH;FMTTYPE=image/png:https://running-scenes.gr/wp-content/uploads/2024/09/unnamed.png
END:VEVENT
BEGIN:VEVENT
DTSTART;VALUE=DATE:20260502
DTEND;VALUE=DATE:20260504
DTSTAMP:20260421T082753
CREATED:20260224T155603Z
LAST-MODIFIED:20260301T220816Z
UID:7461-1777680000-1777852799@running-scenes.gr
SUMMARY:8ος Αγώνας Υγείας Αντιπάρου
DESCRIPTION:8ος Αγώνας Υγείας Αντιπάρου\n8ος Αγώνας Υγείας Αντιπάρου O αγαπημένος αγώνας των Κυκλάδων επιστρέφει για να σου χαρίσει νέες δρομικές στιγμές! Με το ίδιο χαμόγελο\, την ίδια προσμονή και την εμπειρία 7 διοργανώσεων\, σε περιμένουμε να τρέξουμε παρέα στο 8ο Αγώνα Υγείας Αντιπάρου\, το Σάββατο 2 Μαΐου 2026\, στο νησί της Αντιπάρου! \nΣτο πλαίσιο του 8ου Αγώνα Υγείας Αντιπάρου θα διεξαχθούν: \n\nΑγώνας δρόμου 24\,4 χλμ.\nΑγώνας δρόμου 10 χλμ.\nΑγώνας δρόμου 5 χλμ\nΠαιδικός Αγώνας Fun Race 1 χλμ.\nΠεριπατητική διαδρομή 5\,5 χλμ (μη αγωνιστική)\n\nΒασικές πληροφορίες 8ου Aγώνα Yγείας Αντιπάρου\n\nΤόπος διεξαγωγής: Αντίπαρος\nΗμερομηνία: Σάββατο 02.05.2026\nΏρα εκκίνησης: 17:00\n\nΓια την καλύτερη διαχείριση της ροής των δρομέων και την ασφάλεια όλων\, οι εκκινήσεις θα πραγματοποιηθούν σταδιακά για κάθε αγώνισμα ξεχωριστά (wave starts)\n\n\nΜέγιστη διάρκεια αγώνα: 3 ώρες (24\,4 χλμ.)\nΤόπος εκκίνησης/τερματισμού: Λιμάνι Αντιπάρου\, Παλαιός Μώλος.\nΑπόσταση αγώνα: 24.4 χλμ.\, 10 χλμ.\, 5χλμ.\n\nΓια την αρτιότερη διεξαγωγή και την ασφάλεια των συμμετεχόντων\, θα τηρηθεί αυστηρή σειρά προτεραιότητας. Το ανώτατο όριο συμμετοχών ορίζεται στους 250 δρομείς (συνολικά για τα τρία αγωνίσματα: 24\,4 χλμ\, 10 χλμ και 5 χλμ) και στους 80 περιπατητές. \nΠερισσότερες πληροφορίες:  8ος Αγώνας Υγείας Αντιπάρου \nΔες εδώ τους αγώνες τρεξίματος που έχει συμμετάσχει το Running Scenes
URL:https://running-scenes.gr/kalentari-agwnes-treksimatos/8os-agwnas-ygeias-antiparou/
LOCATION:Αντίπαρος\, Αντίπαρος\, 84007\, Greece
CATEGORIES:Tρέξιμο Δρόμου
ATTACH;FMTTYPE=image/jpeg:https://running-scenes.gr/wp-content/uploads/2026/02/8os-LOGO.jpg
ORGANIZER;CN="Antipaos En Plo":MAILTO:antiparosenplo@gmail.com
END:VEVENT
END:VCALENDAR