BEGIN:VCALENDAR
VERSION:2.0
PRODID:-//Running Scenes - ECPv6.15.17.1//NONSGML v1.0//EN
CALSCALE:GREGORIAN
METHOD:PUBLISH
X-ORIGINAL-URL:https://running-scenes.gr
X-WR-CALDESC:Events for Running Scenes
REFRESH-INTERVAL;VALUE=DURATION:PT1H
X-Robots-Tag:noindex
X-PUBLISHED-TTL:PT1H
BEGIN:VTIMEZONE
TZID:Europe/Athens
BEGIN:DAYLIGHT
TZOFFSETFROM:+0200
TZOFFSETTO:+0300
TZNAME:EEST
DTSTART:20230326T010000
END:DAYLIGHT
BEGIN:STANDARD
TZOFFSETFROM:+0300
TZOFFSETTO:+0200
TZNAME:EET
DTSTART:20231029T010000
END:STANDARD
BEGIN:DAYLIGHT
TZOFFSETFROM:+0200
TZOFFSETTO:+0300
TZNAME:EEST
DTSTART:20240331T010000
END:DAYLIGHT
BEGIN:STANDARD
TZOFFSETFROM:+0300
TZOFFSETTO:+0200
TZNAME:EET
DTSTART:20241027T010000
END:STANDARD
BEGIN:DAYLIGHT
TZOFFSETFROM:+0200
TZOFFSETTO:+0300
TZNAME:EEST
DTSTART:20250330T010000
END:DAYLIGHT
BEGIN:STANDARD
TZOFFSETFROM:+0300
TZOFFSETTO:+0200
TZNAME:EET
DTSTART:20251026T010000
END:STANDARD
END:VTIMEZONE
BEGIN:VEVENT
DTSTART;TZID=Europe/Athens:20240406T080000
DTEND;TZID=Europe/Athens:20240407T170000
DTSTAMP:20260421T112955
CREATED:20240215T164139Z
LAST-MODIFIED:20240216T093407Z
UID:7206-1712390400-1712509200@running-scenes.gr
SUMMARY:1ο YMITTOS ULTRA TRAIL 2024
DESCRIPTION:1ο YMITTOS ULTRA TRAIL 2024 – Οι HAPPY RUNNERS με τη βοήθεια του TihioRace διοργανώνουν για 1η φορά αγώνα Ultra στον Υμηττό!  Στις 6 & 7 Απριλίου 2024 με τη βοήθεια της ομάδας Happy Runners (Leonardo Curatolo) θα πραγματοποιηθούν οι παρακάτω αγώνες στον Υμηττό με εκκίνηση και τερματισμό την Αργυρούπολη (Σιντριβάνι στο Πατητήρι/Πυροφυλάκιο) \nΣτις 6 & 7 Απριλίου θα διεξαχθούν στον Υμηττό οι παρακάτω αγώνες YMITTOS ULTRA TRAIL 2024: \n\nYMITTOS ULTRA TRAIL 90km D+ 5500m: Εκκίνηση Σάββατο 6 Απριλίου από την Αργυρούπολη και τερματισμός Κυριακή 7 Απριλίου στην Αργυρούπολη.\n\nYMITTOS TRAIL 20km D+ 840m\n\n\nYMITTOS TRAIL 10km D+ 390m\n\n\nΠαράλληλα την Κυριακή 7 Απριλίου θα διεξαχθούν οι αγώνες των 20 & 10km\, με σημείο εκκίνησης και τερματισμού την Αργυρούπολη. \n1ο YMITTOS ULTRA TRAIL 2024\nΠερισσότερες πληροφορίες και εγγραφές https://ymittostrail.tihiorace.gr/ \n\nΔες εδώ το Καλεντάρι με Αγώνες Τρεξίματος 2024\n 
URL:https://running-scenes.gr/kalentari-agwnes-treksimatos/ymittos-ultra-trail-2024/
LOCATION:Υμηττός Αργυρούπολη
CATEGORIES:Ορεινό Τρέξιμο Βουνού Trail
ATTACH;FMTTYPE=image/jpeg:https://running-scenes.gr/wp-content/uploads/2024/02/Ymittos-Ultra-Trail-90.jpg
ORGANIZER;CN="%CE%A3%CF%8D%CE%BB%CE%BB%CE%BF%CE%B3%CE%BF%CF%82 %CE%A7%CE%B9%CE%BF%CE%BD%CE%BF%CE%B4%CF%81%CF%8C%CE%BC%CF%89%CE%BD %CE%9F%CF%81%CE%B5%CE%B9%CE%B2%CE%B1%CF%84%CF%8E%CE%BD %CE%A0%CE%BF%CE%B4%CE%B7%CE%BB%CE%AC%CF%84%CF%89%CE%BD %CE%98%CE%AE%CE%B2%CE%B1%CF%82 (%CE%A3%CE%A7%CE%9F%CE%A0)":MAILTO:info@sxopthivas
END:VEVENT
END:VCALENDAR