BEGIN:VCALENDAR
VERSION:2.0
PRODID:-//Running Scenes - ECPv6.15.17.1//NONSGML v1.0//EN
CALSCALE:GREGORIAN
METHOD:PUBLISH
X-WR-CALNAME:Running Scenes
X-ORIGINAL-URL:https://running-scenes.gr
X-WR-CALDESC:Events for Running Scenes
REFRESH-INTERVAL;VALUE=DURATION:PT1H
X-Robots-Tag:noindex
X-PUBLISHED-TTL:PT1H
BEGIN:VTIMEZONE
TZID:Europe/Athens
BEGIN:DAYLIGHT
TZOFFSETFROM:+0200
TZOFFSETTO:+0300
TZNAME:EEST
DTSTART:20230326T010000
END:DAYLIGHT
BEGIN:STANDARD
TZOFFSETFROM:+0300
TZOFFSETTO:+0200
TZNAME:EET
DTSTART:20231029T010000
END:STANDARD
BEGIN:DAYLIGHT
TZOFFSETFROM:+0200
TZOFFSETTO:+0300
TZNAME:EEST
DTSTART:20240331T010000
END:DAYLIGHT
BEGIN:STANDARD
TZOFFSETFROM:+0300
TZOFFSETTO:+0200
TZNAME:EET
DTSTART:20241027T010000
END:STANDARD
BEGIN:DAYLIGHT
TZOFFSETFROM:+0200
TZOFFSETTO:+0300
TZNAME:EEST
DTSTART:20250330T010000
END:DAYLIGHT
BEGIN:STANDARD
TZOFFSETFROM:+0300
TZOFFSETTO:+0200
TZNAME:EET
DTSTART:20251026T010000
END:STANDARD
END:VTIMEZONE
BEGIN:VEVENT
DTSTART;TZID=Europe/Athens:20240323T080000
DTEND;TZID=Europe/Athens:20240324T170000
DTSTAMP:20260421T124718
CREATED:20240201T111126Z
LAST-MODIFIED:20240220T090031Z
UID:7191-1711180800-1711299600@running-scenes.gr
SUMMARY:13os Taygetos Challenge 2024 Πληροφορίες Αγώνα
DESCRIPTION:Ο 13os Taygetos Challenge 2024 θα γίνει το διήμερο 23 – 24 Μαρτίου 2023 στην Καρδαμύλη της Μάνης με 4 + 1 αγωνίσματα. Οι εγγραφές συμμετοχής άνοιξαν και θα παραμείνουν ανοιχτές μέχρι τις 10 Μαρτίου 2024. \nΣε συνεργασία με τον Δήμο Δυτικής Μάνης και την Περιφέρεια Πελοποννήσου\, διοργανώνεται o 13οςTaygetos Challenge\, διεθνής αγώνας ορεινού τρεξίματος\, στην Καρδαμύλη Δυτικής Μάνης στις 23 και 24 Μαρτίου 2024. \nTo Taygetos Challenge είναι αγώνας ορεινού τρεξίματος στον Ταΰγετο\, ο οποίος πραγματοποιείται κάθε χρόνο τον Μάρτιο κοντά στην ημερομηνία της 25ης Μαρτίου. Ο αγώνας έχει ως στόχο την ανάδειξη της ευρύτερης περιοχής της Δυτικής Μάνης και την “άγνωστη” αυτή πλευρά του Ταϋγέτου\, καθώς συνδέει κάποια από τα ομορφότερα και αρχαιότερα μονοπάτια της περιοχής\, τα οποία ξεκινούν και καταλήγουν στην Καρδαμύλη (εκκίνηση και τερματισμός αγώνα) \nΑγωνίσματα 13os Taygetos Challenge 2024\n\nIndependent Fun 5KM €15.00\n\nΘετική Υψομετρική Αγώνα: 201m\n\n\nBasic 10KM €20.00\n\nΘετική Υψομετρική Αγώνα: 460m\n\n\nExperience 20KM €30.00\n\nΘετική Υψομετρική Αγώνα: 1089m\n\n\nVertical Speed €10.00\nMarathon 37KM €42.00\n\nΘετική Υψομετρική Αγώνα: 2154m\n\n\n\nΕκκίνηση Αγώνα : Κεντρική πλατεία Καρδαμύλης\, δυτική Μάνη\, Μεσσηνία\, ΤΚ 24022 \nΟι εγγραφές θα παραμείνουν ανοιχτές μέχρι τις 10 Μαρτίου 2024. Για περισσότερες πληροφορίες και εγγραφές ΕΔΩ \nΠοια είναι τα 6 “νέα” που φέρνει το 13o Taygetos Challenge? \nΝΕΟ 1: Ανακοίνωση Δράσης «1 Δέντρο για κάθε 1 Αθλητή» για το 2024\nΣτα πλαίσια των περιβαλλοντικών δράσεων που έχουμε ξεκινήσει από το 2021\, στην περσινή 12η διοργάνωση για κάθε αθλητή που συμμετείχε στο Taygetos Challenge 2023\, δεσμευτήκαμε να φυτέψουμε ένα δέντρο συμβάλλοντας στην ελαχιστοποίηση του περιβαλλοντικού αποτυπώματος άνθρακα. Χάρη λοιπόν στην δική σας ευαισθητοποίηση και συμμετοχή και την έμπρακτη υποστήριξη της We4all\, υλοποιήθηκε τον Δεκέμβριο η Δράση «1 Δέντρο για κάθε 1 Αθλητή» και φυτεύτηκαν 778 δέντρα στα Οινοφυτα\, Υμηττό\, Παιανία και Καναδά. Και επειδή πιστεύουμε ότι η αλλαγή που θέλουμε να δούμε στον κόσμο\, έρχεται ως αποτέλεσμα ομαδικής προσπάθειας\, ανακοινώνουμε και σας προσκαλούμε να συμμετέχετε και πάλι στην Δράση «1 Δέντρο για κάθε 1 Αθλητή» για το 2024 με στόχο να φτάσουμε τις 1.000 δεντροσυτευσεις σε Ελλάδα και τον υπολοιπο κόσμο που το έχουν πραγματικά ανάγκη\, προσφέροντας τροφή\, εργασία και περιβαλλοντική αποκατάσταση της περιοχής. \nNEO 2: Ανανεωμένες διαδρομές για το Marathon 40km και Experience 22Km με νέα βαθμολογία από τον Παγκόσμιο Οργανισμό Ορεινού τρεξίματος\, ITRA\nΤο αγώνισμα του Marathon γίνεται 40χλμ από τα 37χλμ και πλέον έχει θετική υψομετρική 2.504μ από 2.314μ. και 2 πόντους στο σύστημα βαθμολογίας της ITRA από 1 που ήταν πέρυσι. Τα 2/3 των μονοπατιών του αγώνα διέρχονται μέσα από την προστατευόμενη ζώνη Natura 2000. Η προσθήκη στην προηγούμενη διαδρομή\, περνάει από τις Κάλυβες σε μια απολαυστική κατάβαση προς το φαράγγι του Βυρού όπου η θέα είναι εντυπωσιακή. Περισσότερο φαράγγι! Μετά την κατάβαση ακολουθεί ένα χιλιόμετρο ανάβασης μέσα στο φαράγγι του Βυρού περνώντας από το πιο όμορφο σημείο του φαραγγιού\, το Στένεμα. Ο Βυρός πέρα από τη φυσική του ομορφιά\, ξεχωρίζει και λόγω της ιστορικής του σημασίας καθώς κατά μήκος του διερχόταν η αρχαία Βασιλική Οδός που ένωνε την αρχαία Σπάρτη με το λιμάνι της Καρδαμύλης. \nTo αγώνισμα Experience γίνεται 22 χλμ από τα 19\,5χλμ με θετική υψομετρική πλέον στα 1.224μ από τα 1.089μ που ήταν μέχρι πέρυσι και 1 πόντο στο σύστημα βαθμολογίας της ITRA από 0. Θα έλεγε κανείς ότι είναι μια διαδρομή επίσης απαιτητική\, αν και με τα μισά υψομετρικά σε σύγκριση με το Marathon. Αν όχι για έμπειρους αθλητές σίγουρα για καλά προπονημένους. Υπάρχουν κάποια κοινά σημεία της διαδρομής με αυτής του Marathon\, όπως η νέα προσθήκη που έγινε από τις Κάλυβες προς το φαράγγι του Βυρού\, το πέρασμα από το φαράγγι και μέρος της διαδρομής στα Ντουμπίτσια. \nΟι διαδρομές των άλλων τριών αγωνισμάτων Basic 10km (+460)\, Independent Fun 5km (+201) και Vertical Speed 650m (+150)\, παραμένουν ίδιες. \nΣχετικά με το Vertical Speed 650m\, μπορεί ένας μαραθωνοδρόμος\, συνηθισμένος στις μεγάλες αποστάσεις\, να τρέξει μια γρήγορη\, κάθετα αναβατική διαδρομή μήκους 650μ; Ιδού η πρώτη πρόκληση! Το Vertical Speed είναι μόνο 150 μέτρα και δεν πρέπει να προβληματίζει\, αφού ο μέγιστος χρόνος προσπάθειας δεν ξεπερνάει τα 7-8 λεπτά για τους πιο αργούς. Εκτός της πρωτοτυπίας και της δυνατότητας να έχουν οι αθλητές ένα γεμάτο αγωνιστικά διήμερο\, είναι το στοιχείο που τονίζει το Challenge στον τίτλο του αγώνα ενώ δίνεται η ευκαιρία σε όλους να δουν πολύ δυνατές μάχες και να χειροκροτήσουν τα παιδιά τα οποία ξεκινούν αμέσως μετά τους μεγάλους. \nΝΕΟ 3: Στην φετινή 13η διοργάνωση και 3η φορά που θα πραγματοποιηθεί το αγώνισμα BASIC 10km\, προστέθηκαν ηλικιακές κατηγορίες.\nΠιο συγκεκριμένα\, οι ηλικιακές κατηγορίες είναι οι παρακάτω:\nΑνδρών Μ1(18-35)\, Μ2(36-49)\, Μ3(50-59)\, Μ4(60+)\nΓυναικών W1(18-35)\, W2(36-49)\, W3(50-59)\, W4(60+) \nΝΕΟ 4: Οι παραπάνω ηλικιακές κατηγορίες ισχύουν και για τα αγωνίσματα Marathon 40km και Experience 22km\nΣτο αγώνισμα Independent Fun 5km παραμένουν οι απονομές στις γενικές κατηγορίες Ανδρών (18+) και Γυναικών (18+) \nΠΡΟΣΟΧΗ! Η συμμετοχή στο Vertical Speed (650μ +150) είναι υποχρεωτική για τους αθλητές που ενδιαφέρονται να πάρουν κατάταξη στο Taygetos Challenge το οποίο είναι ο συνδυασμός των αποτελεσμάτων του Vertical Speed που γίνεται το Σάββατο και μίας από τις 3 διαδρομές της Κυριακής (Marathon\, Experience\, Basic). Στο αγώνισμα Fun 5χλμ η συμμετοχή στο Vertical Speed δεν είναι υποχρεωτική και δεν υπολογίζεται στην κατάταξη ή στα αποτελέσματα του αγώνα. \nΤο Vertical Speed ΔΕΝ έχει έξτρα κόστος (είναι ενσωματωμένο στο κόστος των υπολοίπων ααγωνισμάτων). \nΣΗΜΕΙΩΣΗ: Για να ισχύσει μία κατηγορία απονομών θα πρέπει να συμμετέχουν τουλάχιστον 6 αθλητές\, διαφορετικά η κατηγορία θα ενσωματωθεί με την αμέσως προηγούμενη κατηγορία. Για περισσότερες πληροφορίες δείτε τους Όρους Συμμετοχής. \nΝΕΟ 5: Στο φετινό 13ο Taygetos Challenge θα υπάρχει δυνατότητα προβολής της θέσης δρομέων σε χάρτη για την διαδρομή του Marathon 40Km\, μια καινοτόμα υπηρεσία από το συνεργάτη χρονομέτρησης Chronolog. Ουσιαστικά\, με link που θα ανακοινωθεί πριν τον αγώνα\, θα μπορεί κάποιος φίλος\, συνοδός\, θεατής από όπου κι αν βρίσκεται να δει την εκτιμωμένη θέση του δρομέα σε χάρτη που απεικονίζει την διαδρομή́ του Marathon 40Km . \nΝΕΟ 6: Είμαστε στην ευχάριστη θέση να ανακοινώσουμε ότι η 13η Διοργάνωση Taygetos Challenge θα υλοποιηθεί με συνδιοργανωτή τον Δήμο Δυτικής Μάνης\, ο οποίος στήριζε έμπρακτα μέχρι τώρα τον αγώνα. \nΚαλωσορίζουμε επίσης τους νέους συνεργάτες μας στην ομάδα των χορηγών του 13ου Taygetos Challenge 2024. Πιο συγκεκριμένα\, την Independent Average Adjusters\, αποκλειστικό χορηγό του αγωνίσματος FUN 5km και την εταιρεία Näak. \nΗ Independent Average Adjusters είναι μια εταιρεία που δραστηριοποιείται στον κλάδο των ναυτιλιακών ασφαλίσεων\, η οποία στηρίζει τον αθλητισμό έμπρακτα και πολλά μέλη της εταιρείας να συμμετέχουν κάθε χρόνο στο Taygetos Challenge. Με σύνθημα “From Wavetop to Hilltop! Run for Fun!” προσκαλούν όλους να γνωρίσουν και να απολαύσουν το ορεινό τρέξιμο γνωρίζοντας τις ομορφιές του Ταϋγέτου. \nΗ Naak δημιουργήθηκε στον Καναδά από αθλητές για αθλητές. Η Ultra Energy σύνθεση των προϊόντων της είναι πλήρης και αποτελείται απο υδατάνθρακες\, πρωτείνη\, αμινοξέα και υλεκτρολύτες. Το πλήρες διατροφικό προφίλ έχει σαν στόχο τον χαμηλό γλυκαιμικό δείκτη και επομένως την αργή και σταθερή απόδοση της ενέργειας. Η εταιρία Ε.ΑΠΟΣΤΟΛΙΔΗΣ & ΣΙΑ ΑΒΒΕΕ δραστηριοποιείται στον χώρο του τριάθλου και της κολύμβησης και είναι ο αντιπρόσωπος στην Ελλάδα και Κύπρο της εταιρία αθλητικής διατροφής Naak και προσφέρει την ευκαιρία στους αθλητές να δοκιμάσουν τα προϊόντα με 15% έκπτωση με τον κωδικό Naak στο παρακάτω link. \nΕυχαριστούμε τους Χορηγούς Χtreme Stores\, Blauel και Αquarella\, AVRA Water\, επίσημο χορηγό υδροδοσίας\, Terra Nova Nutrition φυσικά συμπληρώματα διατροφής για την εμπιστοσύνη και υποστήριξη τους\, τους περιβαλλοντικούς συνεργάτες We4all και pi3 καθώς και τους Υποστηρικτές Dole\, την ΝΕΜΑ.beer\, Ελληνική Εταιρεία Οικοτουρισμού\, Το Ανώγι\, χειροποίητο παστέλι και τους χορηγούς επικοινωνίας μας\, Runnermagazine\, Runningnews.gr\, Advendure.com\, iRun\, Runntrail.gr και SwimBikeRun.gr που συνεχίζουν και υποστηρίζουν το Taygetos Challenge. \nΔες εδώ το Καλεντάρι με Αγώνες Τρεξίματος 2024
URL:https://running-scenes.gr/kalentari-agwnes-treksimatos/13os-taygetos-challenge-2024-plirofories-agwna/
LOCATION:Κεντρική πλατεία Καρδαμύλης\, Κεντρική πλατεία Καρδαμύλης\, δυτική Μάνη\, Μεσσηνία\, ΤΚ 24022\, Μάνη\, Μεσσηνία\, 24022\, Ελλάδα
CATEGORIES:Ορεινό Τρέξιμο Βουνού Trail
ATTACH;FMTTYPE=image/png:https://running-scenes.gr/wp-content/uploads/2022/12/taygetos-challenge.png
ORGANIZER;CN="Taygetos Challenge":MAILTO:info@taygetoschallenge.com
END:VEVENT
END:VCALENDAR